BEGIN:VCALENDAR
VERSION:2.0
PRODID:-//Università Popolare di Cavarzere APS - ECPv6.15.14//NONSGML v1.0//EN
CALSCALE:GREGORIAN
METHOD:PUBLISH
X-ORIGINAL-URL:https://demo.unipopcavarzere.it
X-WR-CALDESC:Eventi per Università Popolare di Cavarzere APS
REFRESH-INTERVAL;VALUE=DURATION:PT1H
X-Robots-Tag:noindex
X-PUBLISHED-TTL:PT1H
BEGIN:VTIMEZONE
TZID:UTC
BEGIN:STANDARD
TZOFFSETFROM:+0000
TZOFFSETTO:+0000
TZNAME:UTC
DTSTART:20240101T000000
END:STANDARD
END:VTIMEZONE
BEGIN:VTIMEZONE
TZID:America/New_York
BEGIN:DAYLIGHT
TZOFFSETFROM:-0500
TZOFFSETTO:-0400
TZNAME:EDT
DTSTART:20240310T070000
END:DAYLIGHT
BEGIN:STANDARD
TZOFFSETFROM:-0400
TZOFFSETTO:-0500
TZNAME:EST
DTSTART:20241103T060000
END:STANDARD
BEGIN:DAYLIGHT
TZOFFSETFROM:-0500
TZOFFSETTO:-0400
TZNAME:EDT
DTSTART:20250309T070000
END:DAYLIGHT
BEGIN:STANDARD
TZOFFSETFROM:-0400
TZOFFSETTO:-0500
TZNAME:EST
DTSTART:20251102T060000
END:STANDARD
BEGIN:DAYLIGHT
TZOFFSETFROM:-0500
TZOFFSETTO:-0400
TZNAME:EDT
DTSTART:20260308T070000
END:DAYLIGHT
BEGIN:STANDARD
TZOFFSETFROM:-0400
TZOFFSETTO:-0500
TZNAME:EST
DTSTART:20261101T060000
END:STANDARD
END:VTIMEZONE
BEGIN:VEVENT
DTSTART;TZID=UTC:20251111T153000
DTEND;TZID=UTC:20251111T173000
DTSTAMP:20260419T165519
CREATED:20260218T093315Z
LAST-MODIFIED:20260219T170228Z
UID:5485-1762875000-1762882200@demo.unipopcavarzere.it
SUMMARY:Giubileo e giubilei. Luoghi\, itinerari\, simboli e memorie dell'Anno Santo cristiano
DESCRIPTION:
URL:https://demo.unipopcavarzere.it/event/giubileo-e-giubilei-luoghi-itinerari-simboli-e-memorie-dellanno-santo-cristiano/
LOCATION:Sala conferenze Palazzo Danielato  Via Roma \, 8\, Via Roma 8\, Cavarzere\, Venezia\, 30014\, Italy
CATEGORIES:Eventi culturali
ORGANIZER;CN="Universit%C3%A0 popolare di Cavarzere":MAILTO:info@unipopcavarzere.it
END:VEVENT
BEGIN:VEVENT
DTSTART;TZID=UTC:20251107T153000
DTEND;TZID=UTC:20251107T170000
DTSTAMP:20260419T165519
CREATED:20260218T093029Z
LAST-MODIFIED:20260219T170043Z
UID:5483-1762529400-1762534800@demo.unipopcavarzere.it
SUMMARY:I miti del mondo greco nell’archeologia del Delta - parte seconda
DESCRIPTION:
URL:https://demo.unipopcavarzere.it/event/i-miti-del-mondo-greco-nellarcheologia-del-delta-parte-seconda/
LOCATION:Località Sala conferenze Palazzo Danielato  Via Roma \, 8\, Via Roma 8\, Cavarzere\, Venezia\, 30014\, Italy
CATEGORIES:Eventi culturali
ORGANIZER;CN="Universit%C3%A0 popolare di Cavarzere":MAILTO:info@unipopcavarzere.it
END:VEVENT
BEGIN:VEVENT
DTSTART;TZID=UTC:20250228T153000
DTEND;TZID=UTC:20250228T173000
DTSTAMP:20260419T165519
CREATED:20260219T145338Z
LAST-MODIFIED:20260219T165936Z
UID:5522-1740756600-1740763800@demo.unipopcavarzere.it
SUMMARY:“Andrea Palladio\, un genio veneto del Rinascimento” seconda parte
DESCRIPTION:
URL:https://demo.unipopcavarzere.it/event/andrea-palladio-un-genio-veneto-del-rinascimento-seconda-parte/
LOCATION:Sala conferenze Palazzo Danielato\, Via Roma 8\, Cavarzere\, Venezia\, 30014\, Italy
CATEGORIES:Eventi culturali
ORGANIZER;CN="Universit%C3%A0 popolare di Cavarzere":MAILTO:info@unipopcavarzere.it
END:VEVENT
BEGIN:VEVENT
DTSTART;TZID=UTC:20250225T153000
DTEND;TZID=UTC:20250225T173000
DTSTAMP:20260419T165519
CREATED:20260219T145125Z
LAST-MODIFIED:20260219T165808Z
UID:5520-1740497400-1740504600@demo.unipopcavarzere.it
SUMMARY:“Parsifal”
DESCRIPTION:
URL:https://demo.unipopcavarzere.it/event/parsifal/
LOCATION:Sala conferenze Palazzo Danielato\, Via Roma 8\, Cavarzere\, Venezia\, 30014\, Italy
CATEGORIES:Eventi culturali
ORGANIZER;CN="Universit%C3%A0 popolare di Cavarzere":MAILTO:info@unipopcavarzere.it
END:VEVENT
BEGIN:VEVENT
DTSTART;TZID=UTC:20250221T153000
DTEND;TZID=UTC:20250221T173000
DTSTAMP:20260419T165519
CREATED:20260219T144842Z
LAST-MODIFIED:20260219T165654Z
UID:5518-1740151800-1740159000@demo.unipopcavarzere.it
SUMMARY:Storia della scuola e della educazione dal Fascismo ad oggi” seconda parte
DESCRIPTION:
URL:https://demo.unipopcavarzere.it/event/storia-della-scuola-e-della-educazione-dal-fascismo-ad-oggi-seconda-parte/
LOCATION:Sala conferenze Palazzo Danielato\, Via Roma 8\, Cavarzere\, Venezia\, 30014\, Italy
CATEGORIES:Eventi culturali
ORGANIZER;CN="Universit%C3%A0 popolare di Cavarzere":MAILTO:info@unipopcavarzere.it
END:VEVENT
BEGIN:VEVENT
DTSTART;TZID=UTC:20250218T153000
DTEND;TZID=UTC:20250218T173000
DTSTAMP:20260419T165519
CREATED:20260219T144703Z
LAST-MODIFIED:20260219T165558Z
UID:5516-1739892600-1739899800@demo.unipopcavarzere.it
SUMMARY:18 feb Recitar cantando - 2° parte
DESCRIPTION:
URL:https://demo.unipopcavarzere.it/event/18-feb-recitar-cantando-2-parte/
LOCATION:Sala conferenze Palazzo Danielato\, Via Roma 8\, Cavarzere\, Venezia\, 30014\, Italy
CATEGORIES:Eventi culturali
ORGANIZER;CN="Universit%C3%A0 popolare di Cavarzere":MAILTO:info@unipopcavarzere.it
END:VEVENT
BEGIN:VEVENT
DTSTART;TZID=UTC:20250214T153000
DTEND;TZID=UTC:20250214T173000
DTSTAMP:20260419T165519
CREATED:20260219T144452Z
LAST-MODIFIED:20260219T165452Z
UID:5513-1739547000-1739554200@demo.unipopcavarzere.it
SUMMARY:“Excellentes mulieres\, dall’alto medioevo all’età moderna” seconda parte
DESCRIPTION:
URL:https://demo.unipopcavarzere.it/event/excellentes-mulieres-dallalto-medioevo-alleta-moderna-seconda-parte/
LOCATION:Sala conferenze Palazzo Danielato\, Via Roma 8\, Cavarzere\, Venezia\, 30014\, Italy
CATEGORIES:Eventi culturali
ORGANIZER;CN="Universit%C3%A0 popolare di Cavarzere":MAILTO:info@unipopcavarzere.it
END:VEVENT
BEGIN:VEVENT
DTSTART;TZID=America/New_York:20250212T153000
DTEND;TZID=America/New_York:20250212T170000
DTSTAMP:20260419T165519
CREATED:20250730T210700Z
LAST-MODIFIED:20260219T165308Z
UID:1489-1739374200-1739379600@demo.unipopcavarzere.it
SUMMARY:Chimica degli alimenti antiossidanti
DESCRIPTION:Join us for an uplifting event where kindness turns into meaningful action and hope grows stronger every day. Together\, we will provide food\, clean water\, education\, and shelter to those who need it most\, creating opportunities for brighter futures. Your support as a volunteer\, donor\, or advocate helps us bring hope and practical solutions to communities in need. \nEvery step we take together strengthens our mission and creates lasting change for generations ahead. By participating\, you not only help deliver essential aid but also inspire others to join this powerful movement of compassion and care. Be part of the difference and help build a brighter\, better future for everyone we reach.
URL:https://demo.unipopcavarzere.it/event/brighten-lives-with-warm-giving/
LOCATION:Sala conferenze Palazzo Danielato  Via Roma \, 8\, Via Roma 8\, Cavarzere\, Venezia\, 30014\, Italy
CATEGORIES:Eventi culturali
ORGANIZER;CN="Universit%C3%A0 popolare di Cavarzere":MAILTO:info@unipopcavarzere.it
END:VEVENT
BEGIN:VEVENT
DTSTART;TZID=UTC:20250211T153000
DTEND;TZID=UTC:20250211T173000
DTSTAMP:20260419T165519
CREATED:20260219T144247Z
LAST-MODIFIED:20260219T165114Z
UID:5511-1739287800-1739295000@demo.unipopcavarzere.it
SUMMARY:“Andrea Palladio\, un genio veneto del Rinascimento” prima parte
DESCRIPTION:
URL:https://demo.unipopcavarzere.it/event/andrea-palladio-un-genio-veneto-del-rinascimento-prima-parte/
LOCATION:Sala conferenze Palazzo Danielato\, Via Roma 8\, Cavarzere\, Venezia\, 30014\, Italy
CATEGORIES:Eventi culturali
ORGANIZER;CN="Universit%C3%A0 popolare di Cavarzere":MAILTO:info@unipopcavarzere.it
END:VEVENT
BEGIN:VEVENT
DTSTART;TZID=UTC:20250204T153000
DTEND;TZID=UTC:20250204T173000
DTSTAMP:20260419T165519
CREATED:20260219T143849Z
LAST-MODIFIED:20260219T164646Z
UID:5506-1738683000-1738690200@demo.unipopcavarzere.it
SUMMARY:“Recitar cantando”
DESCRIPTION:
URL:https://demo.unipopcavarzere.it/event/recitar-cantando/
LOCATION:Sala conferenze Palazzo Danielato  Via Roma \, 8\, Via Roma 8\, Cavarzere\, Venezia\, 30014\, Italy
CATEGORIES:Eventi culturali
ORGANIZER;CN="Universit%C3%A0 popolare di Cavarzere":MAILTO:info@unipopcavarzere.it
END:VEVENT
END:VCALENDAR